BEGIN:VCALENDAR
VERSION:2.0
PRODID:-//A New Story - ECPv6.15.20//NONSGML v1.0//EN
CALSCALE:GREGORIAN
METHOD:PUBLISH
X-WR-CALNAME:A New Story
X-ORIGINAL-URL:https://anewstory.ca
X-WR-CALDESC:Events for A New Story
REFRESH-INTERVAL;VALUE=DURATION:PT1H
X-Robots-Tag:noindex
X-PUBLISHED-TTL:PT1H
BEGIN:VTIMEZONE
TZID:UTC
BEGIN:STANDARD
TZOFFSETFROM:+0000
TZOFFSETTO:+0000
TZNAME:UTC
DTSTART:20230101T000000
END:STANDARD
END:VTIMEZONE
BEGIN:VEVENT
DTSTART;TZID=UTC:20241203T180000
DTEND;TZID=UTC:20241203T210000
DTSTAMP:20260423T151558
CREATED:20240828T132408Z
LAST-MODIFIED:20241116T161522Z
UID:10334-1733248800-1733259600@anewstory.ca
SUMMARY:A New Story\, The Mini-Series & Panel @ Ajax St. Francis Theatre
DESCRIPTION:Hosted by the Ajax Public Library \nRegister at the link: https://www.ajaxlibrary.ca/node/2563
URL:https://anewstory.ca/event/a-new-story-the-mini-series-panel-ajax-st-francis-theatre/
END:VEVENT
BEGIN:VEVENT
DTSTART;TZID=UTC:20241117T163000
DTEND;TZID=UTC:20241117T170000
DTSTAMP:20260423T151558
CREATED:20241101T160138Z
LAST-MODIFIED:20241101T160138Z
UID:10336-1731861000-1731862800@anewstory.ca
SUMMARY:Power of the Walk @ DOC NYC
DESCRIPTION:World Premiere at the prestigious DOC NYC film festival Nov.17th!
URL:https://anewstory.ca/event/potwdocnyc/
LOCATION:Village Easy by Angelika\, New York City
END:VEVENT
BEGIN:VEVENT
DTSTART;VALUE=DATE:20240918
DTEND;VALUE=DATE:20240920
DTSTAMP:20260423T151558
CREATED:20240828T132152Z
LAST-MODIFIED:20240828T132152Z
UID:10332-1726617600-1726790399@anewstory.ca
SUMMARY:Kirby's House @ Inspiring Possibilities AGM & Conference (Community Living)
DESCRIPTION:This annual event is one of North America’s largest gatherings dedicated to promoting inclusion and belonging for people who have an intellectual disability.
URL:https://anewstory.ca/event/kirbys-house-inspiring-possibilities-agm-conference-community-living/
END:VEVENT
BEGIN:VEVENT
DTSTART;TZID=UTC:20240728T150000
DTEND;TZID=UTC:20240728T180000
DTSTAMP:20260423T151558
CREATED:20240612T131613Z
LAST-MODIFIED:20240612T131644Z
UID:10296-1722178800-1722189600@anewstory.ca
SUMMARY:Advantage Gained @ Peterborough Pagans Rugby Club
DESCRIPTION:
URL:https://anewstory.ca/event/advantage-gained-peterborough-pagans-rugby-club/
LOCATION:725 Armour Rd\, Peterborough\, ON K9H 2A1
END:VEVENT
BEGIN:VEVENT
DTSTART;TZID=UTC:20240615T190000
DTEND;TZID=UTC:20240615T200000
DTSTAMP:20260423T151558
CREATED:20240612T130900Z
LAST-MODIFIED:20240612T131751Z
UID:10288-1718478000-1718481600@anewstory.ca
SUMMARY:Power of the Walk @ Annual Down Syndrome Walk - CDSS
DESCRIPTION:Tune in to the virtual celebration for the annual Down Syndrome walk for a virtual screening of Power of the Walk. The program begins at 7pm on CDSS’s facebook page.
URL:https://anewstory.ca/event/power-of-the-walk-annual-down-syndrome-walk-cdss/
END:VEVENT
BEGIN:VEVENT
DTSTART;VALUE=DATE:20240526
DTEND;VALUE=DATE:20240527
DTSTAMP:20260423T151558
CREATED:20240524T194433Z
LAST-MODIFIED:20240612T130927Z
UID:10242-1716681600-1716767999@anewstory.ca
SUMMARY:Advantage Gained @ Vikings Rugby Club
DESCRIPTION:
URL:https://anewstory.ca/event/advantage-gained-at-the-vikings-rugby-club/
LOCATION:Thomson Rugby Park\, 110 Raglan Rd W\, Oshawa\, Canada
END:VEVENT
BEGIN:VEVENT
DTSTART;VALUE=DATE:20240409
DTEND;VALUE=DATE:20240410
DTSTAMP:20260423T151558
CREATED:20240418T192112Z
LAST-MODIFIED:20240612T131000Z
UID:10138-1712620800-1712707199@anewstory.ca
SUMMARY:Kirby's House @ Newmarket/Aurora Family Support Network\, Virtual
DESCRIPTION:
URL:https://anewstory.ca/event/virtual-screening-and-qa-newmarket-aurora-family-support-network/
END:VEVENT
BEGIN:VEVENT
DTSTART;VALUE=DATE:20240319
DTEND;VALUE=DATE:20240320
DTSTAMP:20260423T151558
CREATED:20240418T192018Z
LAST-MODIFIED:20240612T131028Z
UID:10136-1710806400-1710892799@anewstory.ca
SUMMARY:Kirby's House @ Inclusion Symposium 2024 – Shared by Community Living UOV
DESCRIPTION:
URL:https://anewstory.ca/event/inclusion-symposium-2024-kirbys-house-shared-at-a-booth-by-community-living-uov/
END:VEVENT
BEGIN:VEVENT
DTSTART;VALUE=DATE:20240127
DTEND;VALUE=DATE:20240128
DTSTAMP:20260423T151558
CREATED:20240418T191148Z
LAST-MODIFIED:20240612T131043Z
UID:10134-1706313600-1706399999@anewstory.ca
SUMMARY:Kirby's House @ Reframe International Film Festival
DESCRIPTION:
URL:https://anewstory.ca/event/reframe-international-film-festival/
END:VEVENT
END:VCALENDAR